BEGIN:VCALENDAR
VERSION:2.0
PRODID:-//Heinrich Mann Schule - ECPv6.15.20//NONSGML v1.0//EN
CALSCALE:GREGORIAN
METHOD:PUBLISH
X-ORIGINAL-URL:https://www.hms-luebeck.de
X-WR-CALDESC:Veranstaltungen für Heinrich Mann Schule
REFRESH-INTERVAL;VALUE=DURATION:PT1H
X-Robots-Tag:noindex
X-PUBLISHED-TTL:PT1H
BEGIN:VTIMEZONE
TZID:Europe/Berlin
BEGIN:DAYLIGHT
TZOFFSETFROM:+0100
TZOFFSETTO:+0200
TZNAME:CEST
DTSTART:20240331T010000
END:DAYLIGHT
BEGIN:STANDARD
TZOFFSETFROM:+0200
TZOFFSETTO:+0100
TZNAME:CET
DTSTART:20241027T010000
END:STANDARD
BEGIN:DAYLIGHT
TZOFFSETFROM:+0100
TZOFFSETTO:+0200
TZNAME:CEST
DTSTART:20250330T010000
END:DAYLIGHT
BEGIN:STANDARD
TZOFFSETFROM:+0200
TZOFFSETTO:+0100
TZNAME:CET
DTSTART:20251026T010000
END:STANDARD
BEGIN:DAYLIGHT
TZOFFSETFROM:+0100
TZOFFSETTO:+0200
TZNAME:CEST
DTSTART:20260329T010000
END:DAYLIGHT
BEGIN:STANDARD
TZOFFSETFROM:+0200
TZOFFSETTO:+0100
TZNAME:CET
DTSTART:20261025T010000
END:STANDARD
END:VTIMEZONE
BEGIN:VEVENT
DTSTART;VALUE=DATE:20250602
DTEND;VALUE=DATE:20250607
DTSTAMP:20260421T143628
CREATED:20250218T175656Z
LAST-MODIFIED:20250218T175656Z
UID:14548-1748822400-1749254399@www.hms-luebeck.de
SUMMARY:Klassenfahrt 8a
DESCRIPTION:
URL:https://www.hms-luebeck.de/kalender/klassenfahrt-8a/
END:VEVENT
BEGIN:VEVENT
DTSTART;VALUE=DATE:20250602
DTEND;VALUE=DATE:20250604
DTSTAMP:20260421T143628
CREATED:20250218T175834Z
LAST-MODIFIED:20250218T180005Z
UID:14550-1748822400-1748995199@www.hms-luebeck.de
SUMMARY:Nachschreiber Deutsch
DESCRIPTION:
URL:https://www.hms-luebeck.de/kalender/nachschreiber-deutsch/
END:VEVENT
BEGIN:VEVENT
DTSTART;VALUE=DATE:20250602
DTEND;VALUE=DATE:20250607
DTSTAMP:20260421T143628
CREATED:20250302T165358Z
LAST-MODIFIED:20250302T165358Z
UID:14633-1748822400-1749254399@www.hms-luebeck.de
SUMMARY:Mini-Phänomenta
DESCRIPTION:
URL:https://www.hms-luebeck.de/kalender/mini-phaenomenta/
END:VEVENT
BEGIN:VEVENT
DTSTART;VALUE=DATE:20250605
DTEND;VALUE=DATE:20250606
DTSTAMP:20260421T143628
CREATED:20250218T180106Z
LAST-MODIFIED:20250218T180106Z
UID:14553-1749081600-1749167999@www.hms-luebeck.de
SUMMARY:Nachschreiber Mathe
DESCRIPTION:
URL:https://www.hms-luebeck.de/kalender/nachschreiber-mathe/
END:VEVENT
BEGIN:VEVENT
DTSTART;VALUE=DATE:20250605
DTEND;VALUE=DATE:20250606
DTSTAMP:20260421T143628
CREATED:20250218T180154Z
LAST-MODIFIED:20250218T180154Z
UID:14555-1749081600-1749167999@www.hms-luebeck.de
SUMMARY:Vorbereitung Radfahrprüfung 4. Klassen
DESCRIPTION:
URL:https://www.hms-luebeck.de/kalender/vorbereitung-radfahrpruefung-4-klassen/
END:VEVENT
BEGIN:VEVENT
DTSTART;VALUE=DATE:20250609
DTEND;VALUE=DATE:20250610
DTSTAMP:20260421T143628
CREATED:20250218T180255Z
LAST-MODIFIED:20250218T180255Z
UID:14557-1749427200-1749513599@www.hms-luebeck.de
SUMMARY:Pfingstmontag
DESCRIPTION:
URL:https://www.hms-luebeck.de/kalender/pfingstmontag-2/
END:VEVENT
BEGIN:VEVENT
DTSTART;VALUE=DATE:20250610
DTEND;VALUE=DATE:20250611
DTSTAMP:20260421T143628
CREATED:20250218T180351Z
LAST-MODIFIED:20250218T180351Z
UID:14559-1749513600-1749599999@www.hms-luebeck.de
SUMMARY:Projekt toter Winkel
DESCRIPTION:
URL:https://www.hms-luebeck.de/kalender/projekt-toter-winkel/
END:VEVENT
BEGIN:VEVENT
DTSTART;VALUE=DATE:20250611
DTEND;VALUE=DATE:20250613
DTSTAMP:20260421T143628
CREATED:20250218T180451Z
LAST-MODIFIED:20250218T180451Z
UID:14561-1749600000-1749772799@www.hms-luebeck.de
SUMMARY:Jugendzahnpflege
DESCRIPTION:
URL:https://www.hms-luebeck.de/kalender/jugendzahnpflege-3/
END:VEVENT
BEGIN:VEVENT
DTSTART;VALUE=DATE:20250616
DTEND;VALUE=DATE:20250621
DTSTAMP:20260421T143628
CREATED:20250218T180608Z
LAST-MODIFIED:20250218T180608Z
UID:14563-1750032000-1750463999@www.hms-luebeck.de
SUMMARY:Klassenfahrt 10. Klasse
DESCRIPTION:
URL:https://www.hms-luebeck.de/kalender/klassenfahrt-10-klasse/
END:VEVENT
BEGIN:VEVENT
DTSTART;VALUE=DATE:20250623
DTEND;VALUE=DATE:20250624
DTSTAMP:20260421T143628
CREATED:20250218T180702Z
LAST-MODIFIED:20250218T180702Z
UID:14565-1750636800-1750723199@www.hms-luebeck.de
SUMMARY:Radfahrprüfung 4. Klassen
DESCRIPTION:
URL:https://www.hms-luebeck.de/kalender/radfahrpruefung-4-klassen/
END:VEVENT
BEGIN:VEVENT
DTSTART;TZID=Europe/Berlin:20250626T140000
DTEND;TZID=Europe/Berlin:20250626T160000
DTSTAMP:20260421T143628
CREATED:20250218T181507Z
LAST-MODIFIED:20250218T181507Z
UID:14569-1750946400-1750953600@www.hms-luebeck.de
SUMMARY:Prüfungsausschuss I
DESCRIPTION:
URL:https://www.hms-luebeck.de/kalender/pruefungsausschuss-i/
END:VEVENT
END:VCALENDAR