BEGIN:VCALENDAR
VERSION:2.0
PRODID:-//Heinrich Mann Schule - ECPv6.15.20//NONSGML v1.0//EN
CALSCALE:GREGORIAN
METHOD:PUBLISH
X-WR-CALNAME:Heinrich Mann Schule
X-ORIGINAL-URL:https://www.hms-luebeck.de
X-WR-CALDESC:Veranstaltungen für Heinrich Mann Schule
REFRESH-INTERVAL;VALUE=DURATION:PT1H
X-Robots-Tag:noindex
X-PUBLISHED-TTL:PT1H
BEGIN:VTIMEZONE
TZID:Europe/Berlin
BEGIN:DAYLIGHT
TZOFFSETFROM:+0100
TZOFFSETTO:+0200
TZNAME:CEST
DTSTART:20240331T010000
END:DAYLIGHT
BEGIN:STANDARD
TZOFFSETFROM:+0200
TZOFFSETTO:+0100
TZNAME:CET
DTSTART:20241027T010000
END:STANDARD
BEGIN:DAYLIGHT
TZOFFSETFROM:+0100
TZOFFSETTO:+0200
TZNAME:CEST
DTSTART:20250330T010000
END:DAYLIGHT
BEGIN:STANDARD
TZOFFSETFROM:+0200
TZOFFSETTO:+0100
TZNAME:CET
DTSTART:20251026T010000
END:STANDARD
BEGIN:DAYLIGHT
TZOFFSETFROM:+0100
TZOFFSETTO:+0200
TZNAME:CEST
DTSTART:20260329T010000
END:DAYLIGHT
BEGIN:STANDARD
TZOFFSETFROM:+0200
TZOFFSETTO:+0100
TZNAME:CET
DTSTART:20261025T010000
END:STANDARD
END:VTIMEZONE
BEGIN:VEVENT
DTSTART;VALUE=DATE:20250501
DTEND;VALUE=DATE:20250502
DTSTAMP:20260421T105027
CREATED:20250112T143346Z
LAST-MODIFIED:20250112T143346Z
UID:14271-1746057600-1746143999@www.hms-luebeck.de
SUMMARY:Tag der Arbeit
DESCRIPTION:
URL:https://www.hms-luebeck.de/kalender/tag-der-arbeit-2/
END:VEVENT
BEGIN:VEVENT
DTSTART;VALUE=DATE:20250502
DTEND;VALUE=DATE:20250503
DTSTAMP:20260421T105027
CREATED:20250112T143417Z
LAST-MODIFIED:20250112T143417Z
UID:14273-1746144000-1746230399@www.hms-luebeck.de
SUMMARY:Beweglicher Ferientag
DESCRIPTION:
URL:https://www.hms-luebeck.de/kalender/beweglicher-ferientag-3/
END:VEVENT
BEGIN:VEVENT
DTSTART;VALUE=DATE:20250505
DTEND;VALUE=DATE:20250510
DTSTAMP:20260421T105027
CREATED:20250218T170540Z
LAST-MODIFIED:20250218T170540Z
UID:14498-1746403200-1746835199@www.hms-luebeck.de
SUMMARY:Klassenfahrt 8b
DESCRIPTION:
URL:https://www.hms-luebeck.de/kalender/klassenfahrt-8b/
END:VEVENT
BEGIN:VEVENT
DTSTART;VALUE=DATE:20250505
DTEND;VALUE=DATE:20250506
DTSTAMP:20260421T105027
CREATED:20250218T170705Z
LAST-MODIFIED:20250218T170705Z
UID:14500-1746403200-1746489599@www.hms-luebeck.de
SUMMARY:Projekt toter Winkel GS
DESCRIPTION:
URL:https://www.hms-luebeck.de/kalender/projekt-toter-winkel-gs/
END:VEVENT
BEGIN:VEVENT
DTSTART;VALUE=DATE:20250506
DTEND;VALUE=DATE:20250507
DTSTAMP:20260421T105027
CREATED:20250218T174322Z
LAST-MODIFIED:20250218T174813Z
UID:14537-1746489600-1746575999@www.hms-luebeck.de
SUMMARY:VERA 3 Deutsch (lesen)
DESCRIPTION:
URL:https://www.hms-luebeck.de/kalender/vera-3-deutsch-lesen/
END:VEVENT
BEGIN:VEVENT
DTSTART;VALUE=DATE:20250506
DTEND;VALUE=DATE:20250507
DTSTAMP:20260421T105027
CREATED:20250218T174505Z
LAST-MODIFIED:20250218T174640Z
UID:14502-1746489600-1746575999@www.hms-luebeck.de
SUMMARY:ESA Prüfung Englisch
DESCRIPTION:
URL:https://www.hms-luebeck.de/kalender/esa-englisch-pruefung/
END:VEVENT
BEGIN:VEVENT
DTSTART;VALUE=DATE:20250506
DTEND;VALUE=DATE:20250507
DTSTAMP:20260421T105027
CREATED:20250218T174454Z
LAST-MODIFIED:20250218T174704Z
UID:14504-1746489600-1746575999@www.hms-luebeck.de
SUMMARY:MSA Prüfung Deutsch
DESCRIPTION:
URL:https://www.hms-luebeck.de/kalender/msa-deutsch-2/
END:VEVENT
BEGIN:VEVENT
DTSTART;VALUE=DATE:20250508
DTEND;VALUE=DATE:20250509
DTSTAMP:20260421T105027
CREATED:20250218T172255Z
LAST-MODIFIED:20250218T173539Z
UID:14510-1746662400-1746748799@www.hms-luebeck.de
SUMMARY:ESA Prüfung Deutsch
DESCRIPTION:
URL:https://www.hms-luebeck.de/kalender/esa-deutsch-2/
END:VEVENT
BEGIN:VEVENT
DTSTART;VALUE=DATE:20250508
DTEND;VALUE=DATE:20250509
DTSTAMP:20260421T105027
CREATED:20250218T172339Z
LAST-MODIFIED:20250218T173526Z
UID:14512-1746662400-1746748799@www.hms-luebeck.de
SUMMARY:MSA Prüfung Mathe
DESCRIPTION:
URL:https://www.hms-luebeck.de/kalender/msa-mathe-2/
END:VEVENT
BEGIN:VEVENT
DTSTART;VALUE=DATE:20250508
DTEND;VALUE=DATE:20250509
DTSTAMP:20260421T105027
CREATED:20250430T091232Z
LAST-MODIFIED:20250430T091232Z
UID:14886-1746662400-1746748799@www.hms-luebeck.de
SUMMARY:Vera 3 Deutsch (Orthografie)
DESCRIPTION:
URL:https://www.hms-luebeck.de/kalender/vera-3-deutsch-orthografie-2/
END:VEVENT
BEGIN:VEVENT
DTSTART;VALUE=DATE:20250513
DTEND;VALUE=DATE:20250514
DTSTAMP:20260421T105027
CREATED:20250218T172540Z
LAST-MODIFIED:20250218T173503Z
UID:14514-1747094400-1747180799@www.hms-luebeck.de
SUMMARY:ESA Prüfung Mathe
DESCRIPTION:
URL:https://www.hms-luebeck.de/kalender/esa-mathe-2/
END:VEVENT
BEGIN:VEVENT
DTSTART;VALUE=DATE:20250513
DTEND;VALUE=DATE:20250514
DTSTAMP:20260421T105027
CREATED:20250218T172622Z
LAST-MODIFIED:20250218T173434Z
UID:14516-1747094400-1747180799@www.hms-luebeck.de
SUMMARY:MSA Prüfung Englisch
DESCRIPTION:
URL:https://www.hms-luebeck.de/kalender/msa-englisch-2/
END:VEVENT
BEGIN:VEVENT
DTSTART;VALUE=DATE:20250513
DTEND;VALUE=DATE:20250514
DTSTAMP:20260421T105027
CREATED:20250218T172955Z
LAST-MODIFIED:20250218T172955Z
UID:14522-1747094400-1747180799@www.hms-luebeck.de
SUMMARY:VERA 3 Mathe
DESCRIPTION:
URL:https://www.hms-luebeck.de/kalender/vera-3-mathe/
END:VEVENT
BEGIN:VEVENT
DTSTART;VALUE=DATE:20250515
DTEND;VALUE=DATE:20250516
DTSTAMP:20260421T105027
CREATED:20250218T173116Z
LAST-MODIFIED:20250218T173116Z
UID:14524-1747267200-1747353599@www.hms-luebeck.de
SUMMARY:Stufenkonferenz
DESCRIPTION:
URL:https://www.hms-luebeck.de/kalender/stufenkonferenz-2/
END:VEVENT
BEGIN:VEVENT
DTSTART;VALUE=DATE:20250520
DTEND;VALUE=DATE:20250523
DTSTAMP:20260421T105027
CREATED:20250218T173248Z
LAST-MODIFIED:20250218T173248Z
UID:14526-1747699200-1747958399@www.hms-luebeck.de
SUMMARY:ESA / MSA mündliche Prüfungen Englisch
DESCRIPTION:
URL:https://www.hms-luebeck.de/kalender/esa-msa-muendliche-pruefungen-englisch/
END:VEVENT
BEGIN:VEVENT
DTSTART;VALUE=DATE:20250522
DTEND;VALUE=DATE:20250523
DTSTAMP:20260421T105027
CREATED:20250218T175115Z
LAST-MODIFIED:20250218T175115Z
UID:14540-1747872000-1747958399@www.hms-luebeck.de
SUMMARY:Projekt toter Winkel an der GS
DESCRIPTION:
URL:https://www.hms-luebeck.de/kalender/projekt-toter-winkel-an-der-gs/
END:VEVENT
BEGIN:VEVENT
DTSTART;VALUE=DATE:20250526
DTEND;VALUE=DATE:20250529
DTSTAMP:20260421T105027
CREATED:20250218T175224Z
LAST-MODIFIED:20250218T175224Z
UID:14542-1748217600-1748476799@www.hms-luebeck.de
SUMMARY:MINT-Tage
DESCRIPTION:
URL:https://www.hms-luebeck.de/kalender/mint-tage/
END:VEVENT
BEGIN:VEVENT
DTSTART;VALUE=DATE:20250526
DTEND;VALUE=DATE:20250527
DTSTAMP:20260421T105027
CREATED:20250218T175340Z
LAST-MODIFIED:20250218T175340Z
UID:14544-1748217600-1748303999@www.hms-luebeck.de
SUMMARY:Schulelternbeiratssitzung
DESCRIPTION:
URL:https://www.hms-luebeck.de/kalender/schulelternbeiratssitzung-2/
END:VEVENT
BEGIN:VEVENT
DTSTART;VALUE=DATE:20250529
DTEND;VALUE=DATE:20250530
DTSTAMP:20260421T105027
CREATED:20250218T175435Z
LAST-MODIFIED:20250218T175435Z
UID:14546-1748476800-1748563199@www.hms-luebeck.de
SUMMARY:Himmelfahrt
DESCRIPTION:
URL:https://www.hms-luebeck.de/kalender/himmelfahrt/
END:VEVENT
END:VCALENDAR